BEGIN:VCALENDAR
VERSION:2.0
PRODID:-//wp-events-plugin.com//7.2.3.1//EN
TZID:Australia/Brisbane
X-WR-TIMEZONE:Australia/Brisbane
BEGIN:VEVENT
UID:1174@pranichealingcentre.com.au
DTSTART;TZID=Australia/Brisbane:20250513T190000
DTEND;TZID=Australia/Brisbane:20250513T203000
DTSTAMP:20250512T235808Z
URL:https://pranichealingcentre.com.au/courses/wesak-full-moon-meditation-
 may/
SUMMARY:Wesak Full Moon Meditation - Tuesday 13th May
DESCRIPTION:[vc_row][vc_column][vc_column_text]Join our group meditation ev
 ening here at the Pranic Healing &amp\; Meditation Centre in Newmarket\, t
 o celebrate the full moon in Taurus.\n\nThis is called the Wesak Full Moon
  and commemorates the birth\, death and enlightenment of the Buddha and hi
 s teachings. This is considered the most powerful full moon of the year.\n
 \n\n\nMaster Choa Kok Sui said that the preparation for meditation is as i
 mportant as the meditation itself. So let's continue with our inner reflec
 tions\, purifications and spiritual practices to get ready for the spiritu
 al downpour of the Wesak Full Moon.\n\nDuring this Full Moon\, we will med
 itate together with millions of people simultaneously all over the world\,
  this creates a massive channel of Divine Light from the Heavens to Infuse
  Mother Earth with Divine Love and Healing Light-just what our Mother Eart
 h and all Her Children need right now!\n\n\n\n\n\nThis is a great opportun
 ity to learn more about MCKS' Pranic Healing &amp\; Arhatic Yoga and exper
 ience the healing effects of the Twin Hearts Meditation.\n\n\n\n\n\n[/vc_c
 olumn_text][/vc_column][/vc_row]
CATEGORIES:Meditation Evening,Twin Hearts Full Moon meditation
LOCATION:Pranic Healing & Meditation Centre\, 3 Alderson St\, Newmarket\, Q
 LD\, 4051\, Australia
GEO:-27.430651;153.010182
X-APPLE-STRUCTURED-LOCATION;VALUE=URI;X-ADDRESS=3 Alderson St\, Newmarket\,
  QLD\, 4051\, Australia;X-APPLE-RADIUS=100;X-TITLE=Pranic Healing & Medita
 tion Centre:geo:-27.430651,153.010182
END:VEVENT
BEGIN:VTIMEZONE
TZID:Australia/Brisbane
X-LIC-LOCATION:Australia/Brisbane
BEGIN:STANDARD
DTSTART:20240513T190000
TZOFFSETFROM:+1000
TZOFFSETTO:+1000
TZNAME:AEST
END:STANDARD
END:VTIMEZONE
END:VCALENDAR