BEGIN:VCALENDAR
VERSION:2.0
PRODID:-//wp-events-plugin.com//7.2.3.1//EN
TZID:Australia/Brisbane
X-WR-TIMEZONE:Australia/Brisbane
BEGIN:VEVENT
UID:1213@pranichealingcentre.com.au
DTSTART;TZID=Australia/Brisbane:20260501T190000
DTEND;TZID=Australia/Brisbane:20260501T203000
DTSTAMP:20260312T233131Z
URL:https://pranichealingcentre.com.au/courses/wesak-full-moon-meditation-
 may-2/
SUMMARY:Wesak Full Moon Meditation - Friday 1st May
DESCRIPTION:Join our group meditation evening here at the Pranic Healing &a
 mp\; Meditation Centre in Newmarket\, to celebrate the full moon in Taurus
 .\n\nThis is called the Wesak Full Moon and commemorates the birth\, death
  and enlightenment of the Buddha and his teachings. This is considered the
  most powerful full moon of the year.\n\n\n\nMaster Choa Kok Sui said that
  the preparation for meditation is as important as the meditation itself. 
 So let's continue with our inner reflections\, purifications and spiritual
  practices to get ready for the spiritual downpour of the Wesak Full Moon.
 \n\nDuring this Full Moon\, we will meditate together with millions of peo
 ple simultaneously all over the world\, this creates a massive channel of 
 Divine Light from the Heavens to Infuse Mother Earth with Divine Love and 
 Healing Light-just what our Mother Earth and all Her Children need right n
 ow!\n\n\n\n\n\nThis is a great opportunity to learn more about MCKS' Prani
 c Healing &amp\; Arhatic Yoga and experience the healing effects of the Tw
 in Hearts Meditation.\n\n\n\n\n
CATEGORIES:Meditation Evening,Twin Hearts Full Moon meditation
LOCATION:Pranic Healing & Meditation Centre\, 3 Alderson St\, Newmarket\, Q
 LD\, 4051\, Australia
GEO:-27.430651;153.010182
X-APPLE-STRUCTURED-LOCATION;VALUE=URI;X-ADDRESS=3 Alderson St\, Newmarket\,
  QLD\, 4051\, Australia;X-APPLE-RADIUS=100;X-TITLE=Pranic Healing & Medita
 tion Centre:geo:-27.430651,153.010182
END:VEVENT
BEGIN:VTIMEZONE
TZID:Australia/Brisbane
X-LIC-LOCATION:Australia/Brisbane
BEGIN:STANDARD
DTSTART:20250501T190000
TZOFFSETFROM:+1000
TZOFFSETTO:+1000
TZNAME:AEST
END:STANDARD
END:VTIMEZONE
END:VCALENDAR