BEGIN:VCALENDAR
VERSION:2.0
PRODID:-//wp-events-plugin.com//7.2.3.1//EN
TZID:Australia/Brisbane
X-WR-TIMEZONE:Australia/Brisbane
BEGIN:VEVENT
UID:1171@pranichealingcentre.com.au
DTSTART;TZID=Australia/Brisbane:20250301T093000
DTEND;TZID=Australia/Brisbane:20250301T163000
DTSTAMP:20250226T203319Z
URL:https://pranichealingcentre.com.au/courses/setting-your-goals-for-succ
 ess-saturday-march/
SUMMARY:Setting Your Goals for Success - Saturday 1st March
DESCRIPTION:[vc_row][vc_column][vc_column_text css=""]The Art and Science o
 f Goal Setting for Success.\n\nThis workshop is designed to help you alig
 n your goals and actions with your deepest values and spiritual aspiration
 s\, transforming 2025 into a pivotal chapter in your healing and self-disc
 overy journey.\n\n\nDiscover how to master the tools of self-awareness thr
 ough intentional goal-setting\, creating a year filled with greater joy\, 
 peace\, and love.\n\nTogether\, we will:\n\n 	Learn the importance of sett
 ing goals to give direction to your life and fulfill your purpose.\n 	Revi
 ew\, update\, craft\, and energize your life goals for success.\n 	Super-c
 harge your aspirations with the power of Pranic Healing techniques and pro
 cesses.\n 	Gain clarity and insight through the practice of meditation.\n 
 	Uncover and dissolve the barriers keeping you from realizing your dreams.
 \n 	Energize your projects and goals to benefit yourself\, your community\
 , and the world.\n\nJoin us and make 2025 your most intentional and transf
 ormative year yet!\n\n\nThis workshop will be facilitated by Fara Curlewis
 \n\nCome together in a light-hearted and supportive environment.\nPlease h
 ave your pen\, paper\, written goals and projects (if you have some)  …
  we will be creating\, crafting and refining these\n\nTime: 9.30 am - 4.30
  pm AEST\n\nALL WELCOME\n\nBook now to secure your seat as there are limi
 ted places.\nPlease note this workshop is part of our Empowerment Series n
 ot a MCKS course.\n\nFeedback from a recent student.\n'Thank you\, Fara th
 ese workshops are literally life changing! It has helped me shape my world
  differently'.\nTL Business Coach[/vc_column_text][/vc_column][/vc_row]
CATEGORIES:Courses,Goal Setting
LOCATION:Pranic Healing & Meditation Centre\, 3 Alderson St\, Newmarket\, Q
 LD\, 4051\, Australia
GEO:-27.430651;153.010182
X-APPLE-STRUCTURED-LOCATION;VALUE=URI;X-ADDRESS=3 Alderson St\, Newmarket\,
  QLD\, 4051\, Australia;X-APPLE-RADIUS=100;X-TITLE=Pranic Healing & Medita
 tion Centre:geo:-27.430651,153.010182
END:VEVENT
BEGIN:VTIMEZONE
TZID:Australia/Brisbane
X-LIC-LOCATION:Australia/Brisbane
BEGIN:STANDARD
DTSTART:20240301T093000
TZOFFSETFROM:+1000
TZOFFSETTO:+1000
TZNAME:AEST
END:STANDARD
END:VTIMEZONE
END:VCALENDAR