BEGIN:VCALENDAR
VERSION:2.0
PRODID:-//wp-events-plugin.com//7.2.3.1//EN
TZID:Australia/Brisbane
X-WR-TIMEZONE:Australia/Brisbane
BEGIN:VEVENT
UID:1168@pranichealingcentre.com.au
DTSTART;TZID=Australia/Brisbane:20250125T093000
DTEND;TZID=Australia/Brisbane:20250125T163000
DTSTAMP:20250122T064638Z
URL:https://pranichealingcentre.com.au/courses/setting-your-goals-for-succ
 ess-saturday-25th-jan/
SUMMARY:Setting Your Goals for Success - Saturday 25th Jan
DESCRIPTION:[vc_row][vc_column][vc_column_text css=""]Goal Setting Workshop
 \n\n*PLEASE NOTE: this workshop has been rescheduled to Saturday 1st March
 !*\n\n\nThis workshop is designed to help you align your goals and actions
  with your deepest values and spiritual aspirations\, transforming 2025 in
 to a pivotal chapter in your healing and self-discovery journey.\n\nDiscov
 er how to master the tools of self-awareness through intentional goal-sett
 ing\, creating a year filled with greater joy\, peace\, and love.\n\nToget
 her\, we will:\n\n 	Learn the importance of setting goals to give directio
 n to your life and fulfill your purpose.\n 	Review\, update\, craft\, and 
 energize your life goals for success.\n 	Super-charge your aspirations wit
 h the power of Pranic Healing techniques and processes.\n 	Gain clarity an
 d insight through the practice of meditation.\n 	Uncover and dissolve the 
 barriers keeping you from realizing your dreams.\n 	Energize your projects
  and goals to benefit yourself\, your community\, and the world.\n\nJoin u
 s and make 2025 your most intentional and transformative year yet!\n\n\nTh
 is workshop will be facilitated by Fara Curlewis\n\nCome together in a lig
 ht-hearted and supportive environment.\nPlease have your pen\, paper\, wri
 tten goals and projects (if you have some)  … we will be creating\, cra
 fting and refining these\n\nTime: 9.30 am - 4.30 pm AEST\n\nALL WELCOME\n\
 nBook now to secure your seat as there are limited places.\nPlease note t
 his workshop is part of our Empowerment Series not a MCKS course.\n\nFeedb
 ack from a recent student.\n'Thank you\, Fara these workshops are literall
 y life changing! It has helped me shape my world differently'.\nTL Busines
 s Coach[/vc_column_text][/vc_column][/vc_row]
CATEGORIES:Courses,Goal Setting
LOCATION:Pranic Healing & Meditation Centre\, 3 Alderson St\, Newmarket\, Q
 LD\, 4051\, Australia
GEO:-27.430651;153.010182
X-APPLE-STRUCTURED-LOCATION;VALUE=URI;X-ADDRESS=3 Alderson St\, Newmarket\,
  QLD\, 4051\, Australia;X-APPLE-RADIUS=100;X-TITLE=Pranic Healing & Medita
 tion Centre:geo:-27.430651,153.010182
END:VEVENT
BEGIN:VTIMEZONE
TZID:Australia/Brisbane
X-LIC-LOCATION:Australia/Brisbane
BEGIN:STANDARD
DTSTART:20240126T093000
TZOFFSETFROM:+1000
TZOFFSETTO:+1000
TZNAME:AEST
END:STANDARD
END:VTIMEZONE
END:VCALENDAR