BEGIN:VCALENDAR
VERSION:2.0
PRODID:-//wp-events-plugin.com//7.2.3.1//EN
TZID:Australia/Brisbane
X-WR-TIMEZONE:Australia/Brisbane
BEGIN:VEVENT
UID:1209@pranichealingcentre.com.au
DTSTART;TZID=Australia/Brisbane:20260301T100000
DTEND;TZID=Australia/Brisbane:20260301T133000
DTSTAMP:20260220T050924Z
URL:https://pranichealingcentre.com.au/courses/pranichealingsundays-march/
SUMMARY:Pranic Healing Sundays - 1st March
DESCRIPTION:One Day • Two Free Sessions • All Welcome\n🌿 Free Pranic
  Healing Clinic\n10.00 – 11.00\nReceive the benefits of Pranic Healing i
 n a supportive group setting.You’re welcome to receive healing\, ask que
 stions\, or — for Pranic Healers — join a healing team and practise.\n
 📍 Pranic Healing Centre\, 3 Alderson Street\, Newmarket\n\n\n\n\n💛 B
 uilding Compassion and Twin Hearts Meditation\n11.30 – 1.30\nThis month'
 s theme: Keys to Compassion\nWe’ll explore how compassion supports deep 
 healing and inner freedom\, followed by Master Choa Kok Sui’s Twin Heart
 s Meditation for Peace and Illumination.\nThis session includes:• Buildi
 ng compassion and inner clarity• Meditation for spiritual alignment and 
 peace• Resting in the healing energy of group practice\n\n\n\nThis is a 
 beautiful opportunity to gather with like-minded seekers\, receive healing
 \, and reconnect with yourself in a light-hearted and supportive space.\n
 ✨ ALL ARE WELCOME🌙 Join one or both sessions🙏 By donation | Regist
 ration appreciated\n📍 Pranic Healing Centre\, 3 Alderson Street\, Newma
 rket\nWith blessings\,Fara Curlewis\n&nbsp\;
CATEGORIES:Pranic Healing Sundays
LOCATION:Pranic Healing & Meditation Centre\, 3 Alderson St\, Newmarket\, Q
 LD\, 4051\, Australia
GEO:-27.430651;153.010182
X-APPLE-STRUCTURED-LOCATION;VALUE=URI;X-ADDRESS=3 Alderson St\, Newmarket\,
  QLD\, 4051\, Australia;X-APPLE-RADIUS=100;X-TITLE=Pranic Healing & Medita
 tion Centre:geo:-27.430651,153.010182
END:VEVENT
BEGIN:VTIMEZONE
TZID:Australia/Brisbane
X-LIC-LOCATION:Australia/Brisbane
BEGIN:STANDARD
DTSTART:20250301T100000
TZOFFSETFROM:+1000
TZOFFSETTO:+1000
TZNAME:AEST
END:STANDARD
END:VTIMEZONE
END:VCALENDAR