BEGIN:VCALENDAR
VERSION:2.0
PRODID:-//wp-events-plugin.com//7.2.3.1//EN
TZID:Australia/Brisbane
X-WR-TIMEZONE:Australia/Brisbane
BEGIN:VEVENT
UID:917@pranichealingcentre.com.au
DTSTART;TZID=Australia/Brisbane:20241215T103000
DTEND;TZID=Australia/Brisbane:20241215T133000
DTSTAMP:20241212T075351Z
URL:https://pranichealingcentre.com.au/courses/our-end-of-2024-celebration
 /
SUMMARY:Full Moon and Celebration of another wonderful year together! - Sun
 day December 15th
DESCRIPTION:[vc_row][vc_column][vc_column_text css=""]\n\n\n\n\n✨ Full Mo
 on Meditation and Celebration of another wonderful year together! ✨\n\n
 \n\n\n\n\n\n\n\n\n\nDear students\, clients\, family\, friends and support
 ers of the Pranic Healing &amp\; Meditation Centre\,\n\nJoin us in celebra
 ting a beautiful year filled with healing\, growth\, and connection. Let's
  reflect on the incredible moments we’ve shared through Pranic Healing e
 vents\, transformative courses\, consultations\, and meditation groups.\n\
 n10:30 AM: Full Moon Twin Hearts Meditation for World Peace\n12:00 PM: Sha
 red Lunch\n\n🌱 Please bring a vegetarian dish—sweet or savory—to sh
 are as we come together for a delightful meal.\n\nThis is a time to gather
 \, give thanks\, and bask in the warmth of our community. We can’t wait 
 to see your bright faces and share this joyful day with you.\n\n💛 With 
 gratitude and love\,\nThe Pranic Healing &amp\; Meditation Centre Team\n\n
 \n\n\n\n\n\n[/vc_column_text][/vc_column][/vc_row]
CATEGORIES:Meditation,Sundays @ the Pranic Healing Centre
LOCATION:Pranic Healing & Meditation Centre\, 3 Alderson St\, Newmarket\, Q
 LD\, 4051\, Australia
GEO:-27.430651;153.010182
X-APPLE-STRUCTURED-LOCATION;VALUE=URI;X-ADDRESS=3 Alderson St\, Newmarket\,
  QLD\, 4051\, Australia;X-APPLE-RADIUS=100;X-TITLE=Pranic Healing & Medita
 tion Centre:geo:-27.430651,153.010182
END:VEVENT
BEGIN:VTIMEZONE
TZID:Australia/Brisbane
X-LIC-LOCATION:Australia/Brisbane
BEGIN:STANDARD
DTSTART:20231216T103000
TZOFFSETFROM:+1000
TZOFFSETTO:+1000
TZNAME:AEST
END:STANDARD
END:VTIMEZONE
END:VCALENDAR