BEGIN:VCALENDAR
VERSION:2.0
PRODID:-//wp-events-plugin.com//7.2.3.1//EN
TZID:Australia/Brisbane
X-WR-TIMEZONE:Australia/Brisbane
BEGIN:VEVENT
UID:1181@pranichealingcentre.com.au
DTSTART;TZID=Australia/Brisbane:20250503T093000
DTEND;TZID=Australia/Brisbane:20250503T160000
DTSTAMP:20250509T002844Z
URL:https://pranichealingcentre.com.au/courses/online-byron-katie-and-the-
 work-saturday-3rd-may/
SUMMARY:ONLINE - Byron Katie and the Work! Saturday 3rd May
DESCRIPTION:[vc_row][vc_column][vc_column_text css=""]\nAn Introduction to 
 Byron Katie’s The Work and Loving What Is\n🌿 Find Freedom\, Clarity &
 amp\; Inner Peace 🌿\nJoin us for a powerful online experiential worksho
 p (via Zoom) exploring The Work of Byron Katie—a simple yet profound met
 hod for healing\, forgiveness\, and finding joy.\n🔹 Learn how to use fo
 ur powerful questions to challenge stressful thoughts and limiting beliefs
 .🔹 See The Work in action and apply it to your own life.🔹 Experience
  deep inner transformation as you shift your perspective.\nWhether you're 
 new to The Work or already love Byron Katie’s teachings\, this workshop 
 is for you!\n\nWhat You’ll Gain:\n✨ Freedom from limiting beliefs✨ C
 larity and self-awareness✨ Inner peace and emotional balance✨ A simple
  yet life-changing tool you can use anytime\n\nMeet Your Facilitator\nFara
  Curlewis\, Director of The Pranic Healing Centre\, Brisbane\, has dedicat
 ed over 30 years to healing the mind\, body\, and soul. With nearly 20 yea
 rs of experience applying The Work\, she is passionate about sharing its t
 ransformative power with you.\n\nVia Zoom - Limited Spots – Reserve Your
 s Today!\nThis is an opportunity to embark on a journey of forgiveness\, h
 ealing\, and self-empowerment with Fara Curlewis. Secure your spot now and
  step into a life of greater peace and joy.\nWe can’t wait to see you th
 ere! 💛\n&nbsp\;\n\n*Please note this workshop is not part of the MCKS P
 ranic Healing Course series.[/vc_column_text][/vc_column][/vc_row][vc_row]
 [vc_column][vc_column_text css=""]Recent student feedback\n\nI really enjo
 yed the Byron Katie workshop over the weekend. I particularly appreciated 
 the online format—it offered the best of both worlds: the connection of 
 being together to share stories\, and the space of being alone at home to 
 process and go deeper. It also allowed me to make notes in real time while
  you were speaking\, which helped me absorb even more.\nI learned many new
  tips and had several “aha” moments while working through my own works
 heet. The Byron Katie method is so effective and transformative\, and your
  depth of experience made the workshops even more powerful.\nThank YOU Far
 a!  (Jess)\nThankyou for the online training for Byron Katie's work. For 
 me the work of the day is still rippling in.  The structure of the day wa
 s good and I think we were blessed with a lovely group. I appreciated the 
 links you made to other teachings for example the Course in Miracles and a
 ll of the quotes you shared. The closing Buddhist Prayer of Forgiveness wa
 s beautiful. (Tina)[/vc_column_text][/vc_column][/vc_row][vc_row][vc_colum
 n][vc_column_text]\n\n[/vc_column_text][/vc_column][/vc_row]
CATEGORIES:Relationship Healing,Self-Empowerment
END:VEVENT
BEGIN:VTIMEZONE
TZID:Australia/Brisbane
X-LIC-LOCATION:Australia/Brisbane
BEGIN:STANDARD
DTSTART:20240503T093000
TZOFFSETFROM:+1000
TZOFFSETTO:+1000
TZNAME:AEST
END:STANDARD
END:VTIMEZONE
END:VCALENDAR