BEGIN:VCALENDAR
VERSION:2.0
PRODID:-//wp-events-plugin.com//7.2.3.1//EN
TZID:Australia/Brisbane
X-WR-TIMEZONE:Australia/Brisbane
BEGIN:VEVENT
UID:1212@pranichealingcentre.com.au
DTSTART;TZID=Australia/Brisbane:20260516T090000
DTEND;TZID=Australia/Brisbane:20260517T160000
DTSTAMP:20260328T003422Z
URL:https://pranichealingcentre.com.au/courses/mcks-spiritual-essence-of-m
 an-may-16th-17th/
SUMMARY:MCKS Spiritual Essence of Man© May 16th - 17th
DESCRIPTION:MCKS Spiritual Essence of Man. The Chakras and the Inverted Tre
 e of life.\n\n\nThis course gives us access to the deeper knowledge and pr
 actices that were once only taught to inner disciples of the Egyptian and 
 Indian Mystery Schools!\n\n\n\n\n 	Learn the relationship and importance o
 f your Spiritual Anatomy (chakras and auras) as described in the tradition
 s of Taoism\, Christianity\, Kabbalah\, Sanskrit\, Acupuncture\, and Egypt
 ian Mystery Schools.\n 	What is the relationship between our Divine Essenc
 e\, our energy bodies\, aura and chakras?\n 	Discover the meaning of the C
 hristian “Triple Cross” and how it can activate your chakras and ener
 gize your subtle bodies.\n 	Use of the Keter Sephira for Spiritual Healing
 s\n 	Understand the teachings of the Lord’s Prayer contained in both th
 e Kabbalistic and Egyptian Tree of Life.\n 	Practice the “I AM” Medita
 tion and activate your seed of consciousness or ‘permanent mental seed
 ’\n 	Learn Krishna’s Teachings on the Inverted Tree of Life and the Up
 anishad’s Tree of Eternity\n 	Discover your Buddha Nature and Experience
  the Divine Essence within you.\n\n\n\nA unique and powerful course to exp
 erience our Divine Essence!\nPre-requisite for this course is Basic Pranic
  Healing or Self-Pranic Healing.\n\n&nbsp\;\n\n
CATEGORIES:Courses,Spiritual Essence of Man
LOCATION:Pranic Healing & Meditation Centre\, 3 Alderson St\, Newmarket\, Q
 LD\, 4051\, Australia
GEO:-27.430651;153.010182
X-APPLE-STRUCTURED-LOCATION;VALUE=URI;X-ADDRESS=3 Alderson St\, Newmarket\,
  QLD\, 4051\, Australia;X-APPLE-RADIUS=100;X-TITLE=Pranic Healing & Medita
 tion Centre:geo:-27.430651,153.010182
END:VEVENT
BEGIN:VTIMEZONE
TZID:Australia/Brisbane
X-LIC-LOCATION:Australia/Brisbane
BEGIN:STANDARD
DTSTART:20250516T090000
TZOFFSETFROM:+1000
TZOFFSETTO:+1000
TZNAME:AEST
END:STANDARD
END:VTIMEZONE
END:VCALENDAR