BEGIN:VCALENDAR
VERSION:2.0
PRODID:-//wp-events-plugin.com//7.2.3.1//EN
TZID:Australia/Brisbane
X-WR-TIMEZONE:Australia/Brisbane
BEGIN:VEVENT
UID:1199@pranichealingcentre.com.au
DTSTART;TZID=Australia/Brisbane:20251207T090000
DTEND;TZID=Australia/Brisbane:20251207T173000
DTSTAMP:20251108T005923Z
URL:https://pranichealingcentre.com.au/courses/mcks-psychic-self-defense-s
 unday-dec/
SUMMARY:MCKS Psychic Self-Defense© Sunday 7th December
DESCRIPTION:[vc_row][vc_column][vc_column_text][/vc_column_text][/vc_column
 ][/vc_row][vc_row][vc_column][vc_column_text]Learn ways of utilizing prani
 c energy to protect yourself\, your belongings\, surroundings and loved on
 es.\n\nThis course offers the following simple\, effective techniques to r
 emedy psychic problems that we all face:\n\n 	creating energy shields for 
 people\, objects and spaces that are powerful\n 	diverting negative though
 t forms\, emotions\, vibrations\, and diseased energies from within yourse
 lf and others\n 	how to apply the law of karma to protect yourself and you
 r loved ones from harm and injury from negative thoughts\, emotions and ps
 ychic attacks.\n\nPre-requisite MCKS Advanced Pranic Healing\n\nMore infor
 mation[/vc_column_text][/vc_column][/vc_row]
CATEGORIES:Courses,Psychic self Defense
LOCATION:Pranic Healing & Meditation Centre\, 3 Alderson St\, Newmarket\, Q
 LD\, 4051\, Australia
GEO:-27.430651;153.010182
X-APPLE-STRUCTURED-LOCATION;VALUE=URI;X-ADDRESS=3 Alderson St\, Newmarket\,
  QLD\, 4051\, Australia;X-APPLE-RADIUS=100;X-TITLE=Pranic Healing & Medita
 tion Centre:geo:-27.430651,153.010182
END:VEVENT
BEGIN:VTIMEZONE
TZID:Australia/Brisbane
X-LIC-LOCATION:Australia/Brisbane
BEGIN:STANDARD
DTSTART:20241207T090000
TZOFFSETFROM:+1000
TZOFFSETTO:+1000
TZNAME:AEST
END:STANDARD
END:VTIMEZONE
END:VCALENDAR