BEGIN:VCALENDAR
VERSION:2.0
PRODID:-//wp-events-plugin.com//7.2.3.1//EN
TZID:Australia/Brisbane
X-WR-TIMEZONE:Australia/Brisbane
BEGIN:VEVENT
UID:1204@pranichealingcentre.com.au
DTSTART;TZID=Australia/Brisbane:20260809T090000
DTEND;TZID=Australia/Brisbane:20260809T173000
DTSTAMP:20260313T071510Z
URL:https://pranichealingcentre.com.au/courses/mcks-psychic-self-defense-s
 unday-aug/
SUMMARY:MCKS Psychic Self-Defense© Sunday 9th August
DESCRIPTION:Learn ways of utilizing pranic energy to protect yourself\, you
 r belongings\, surroundings and loved ones.\n\nThis course offers the foll
 owing simple\, effective techniques to remedy psychic problems that we all
  face:\n\n 	creating energy shields for people\, objects and spaces that a
 re powerful\n 	diverting negative thought forms\, emotions\, vibrations\, 
 and diseased energies from within yourself and others\n 	how to apply the 
 law of karma to protect yourself and your loved ones from harm and injury 
 from negative thoughts\, emotions and psychic attacks.\n\nAll Pranic Heali
 ng books\, meditation audios\, and other course materials are available fo
 r purchase at the workshop.\nCourse material required for this course is: 
 Psychic Self-Defense $65\n\nPre-requisite MCKS Advanced Pranic Healing\n\n
 More information
CATEGORIES:Courses,Psychic self Defense
LOCATION:Pranic Healing & Meditation Centre\, 3 Alderson St\, Newmarket\, Q
 LD\, 4051\, Australia
GEO:-27.430651;153.010182
X-APPLE-STRUCTURED-LOCATION;VALUE=URI;X-ADDRESS=3 Alderson St\, Newmarket\,
  QLD\, 4051\, Australia;X-APPLE-RADIUS=100;X-TITLE=Pranic Healing & Medita
 tion Centre:geo:-27.430651,153.010182
END:VEVENT
BEGIN:VTIMEZONE
TZID:Australia/Brisbane
X-LIC-LOCATION:Australia/Brisbane
BEGIN:STANDARD
DTSTART:20250809T090000
TZOFFSETFROM:+1000
TZOFFSETTO:+1000
TZNAME:AEST
END:STANDARD
END:VTIMEZONE
END:VCALENDAR