BEGIN:VCALENDAR
VERSION:2.0
PRODID:-//wp-events-plugin.com//7.2.3.1//EN
TZID:Australia/Brisbane
X-WR-TIMEZONE:Australia/Brisbane
BEGIN:VEVENT
UID:1188@pranichealingcentre.com.au
DTSTART;TZID=Australia/Brisbane:20251011T090000
DTEND;TZID=Australia/Brisbane:20251011T180000
DTSTAMP:20250921T001120Z
URL:https://pranichealingcentre.com.au/courses/mcks-pranic-psychotherapy-o
 ct/
SUMMARY:MCKS Pranic Psychotherapy© Saturday 11th October
DESCRIPTION:[vc_row][vc_column][vc_column_text css=""]Pranic Psychotherapy 
 is the application of Advanced Pranic Healing techniques for alleviating e
 motional and psychological disturbances and imbalances.\n\nSingle day form
 at!\n\nNegative emotions and traumatic experiences are essentially negativ
 e thought forms and emotional energies lodged in the aura and specific cha
 kras. Pranic Psychotherapy offers you the ability to quickly and safely re
 lease these crippling energetic patterns.\n\nThe techniques taught in this
  course build on the Basic and Advanced Pranic Healing skills\, and enable
  you to:\n\n 	remove and disintegrate traumatic and negative energies\n 	d
 isintegrate negative elementals and seal the cracks and holes in the prote
 ctive web of the chakras\n 	activate and inhibit the chakras to restore ba
 lance\n 	create a positive image or thought entity for the client.\n\nThe 
 pre-requisite for this course is MCKS Advanced Pranic Healing\n\nMore info
 rmation[/vc_column_text][/vc_column][/vc_row]
CATEGORIES:Pranic Psychotherapy
LOCATION:Pranic Healing & Meditation Centre\, 3 Alderson St\, Newmarket\, Q
 LD\, 4051\, Australia
GEO:-27.430651;153.010182
X-APPLE-STRUCTURED-LOCATION;VALUE=URI;X-ADDRESS=3 Alderson St\, Newmarket\,
  QLD\, 4051\, Australia;X-APPLE-RADIUS=100;X-TITLE=Pranic Healing & Medita
 tion Centre:geo:-27.430651,153.010182
END:VEVENT
BEGIN:VTIMEZONE
TZID:Australia/Brisbane
X-LIC-LOCATION:Australia/Brisbane
BEGIN:STANDARD
DTSTART:20241011T090000
TZOFFSETFROM:+1000
TZOFFSETTO:+1000
TZNAME:AEST
END:STANDARD
END:VTIMEZONE
END:VCALENDAR