BEGIN:VCALENDAR
VERSION:2.0
PRODID:-//wp-events-plugin.com//7.2.3.1//EN
TZID:Australia/Brisbane
X-WR-TIMEZONE:Australia/Brisbane
BEGIN:VEVENT
UID:1210@pranichealingcentre.com.au
DTSTART;TZID=Australia/Brisbane:20260620T090000
DTEND;TZID=Australia/Brisbane:20260621T160000
DTSTAMP:20260228T071500Z
URL:https://pranichealingcentre.com.au/courses/mcks-pranic-psychotherapy-j
 une/
SUMMARY:MCKS Pranic Psychotherapy© 20th - 21st June
DESCRIPTION:Pranic Psychotherapy is the application of Advanced Pranic Heal
 ing techniques for alleviating emotional and psychological disturbances an
 d imbalances.\n\nNegative emotions and traumatic experiences are essential
 ly negative thought forms and emotional energies lodged in the aura and sp
 ecific chakras. Pranic Psychotherapy offers you the ability to quickly and
  safely release these crippling energetic patterns.\n\nThe techniques taug
 ht in this course build on the Basic and Advanced Pranic Healing skills\, 
 and enable you to:\n\n 	remove and disintegrate traumatic and negative ene
 rgies\n 	disintegrate negative elementals and seal the cracks and holes in
  the protective web of the chakras\n 	activate and inhibit the chakras to 
 restore balance\n 	create a positive image or thought entity for the clien
 t.\n\nAll Pranic Healing books\, meditation audios\, and other course mate
 rials are available for purchase at the workshop.\nCourse material require
 d for this course is: Pranic Psychotherapy $65\n\nThe pre-requisite for th
 is course is MCKS Advanced Pranic Healing\n\nMore information
CATEGORIES:Pranic Psychotherapy
LOCATION:Pranic Healing & Meditation Centre\, 3 Alderson St\, Newmarket\, Q
 LD\, 4051\, Australia
GEO:-27.430651;153.010182
X-APPLE-STRUCTURED-LOCATION;VALUE=URI;X-ADDRESS=3 Alderson St\, Newmarket\,
  QLD\, 4051\, Australia;X-APPLE-RADIUS=100;X-TITLE=Pranic Healing & Medita
 tion Centre:geo:-27.430651,153.010182
END:VEVENT
BEGIN:VTIMEZONE
TZID:Australia/Brisbane
X-LIC-LOCATION:Australia/Brisbane
BEGIN:STANDARD
DTSTART:20250620T090000
TZOFFSETFROM:+1000
TZOFFSETTO:+1000
TZNAME:AEST
END:STANDARD
END:VTIMEZONE
END:VCALENDAR