BEGIN:VCALENDAR
VERSION:2.0
PRODID:-//wp-events-plugin.com//7.2.3.1//EN
TZID:Australia/Brisbane
X-WR-TIMEZONE:Australia/Brisbane
BEGIN:VEVENT
UID:1177@pranichealingcentre.com.au
DTSTART;TZID=Australia/Brisbane:20250712T090000
DTEND;TZID=Australia/Brisbane:20250713T160000
DTSTAMP:20250325T010647Z
URL:https://pranichealingcentre.com.au/courses/mcks-pranic-psychotherapy-j
 uly/
SUMMARY:MCKS Pranic Psychotherapy© July 12th - 13th
DESCRIPTION:[vc_row][vc_column][vc_column_text]Pranic Psychotherapy is the 
 application of Advanced Pranic Healing techniques for alleviating emotiona
 l and psychological disturbances and imbalances.\n\nNegative emotions and 
 traumatic experiences are essentially negative thought forms and emotional
  energies lodged in the aura and specific chakras. Pranic Psychotherapy of
 fers you the ability to quickly and safely release these crippling energet
 ic patterns.\n\nThe techniques taught in this course build on the Basic an
 d Advanced Pranic Healing skills\, and enable you to:\n\n 	remove and disi
 ntegrate traumatic and negative energies\n 	disintegrate negative elementa
 ls and seal the cracks and holes in the protective web of the chakras\n 	a
 ctivate and inhibit the chakras to restore balance\n 	create a positive im
 age or thought entity for the client.\n\nThe pre-requisite for this course
  is MCKS Advanced Pranic Healing\n\nMore information[/vc_column_text][/vc_
 column][/vc_row]
CATEGORIES:Pranic Psychotherapy
LOCATION:Pranic Healing & Meditation Centre\, 3 Alderson St\, Newmarket\, Q
 LD\, 4051\, Australia
GEO:-27.430651;153.010182
X-APPLE-STRUCTURED-LOCATION;VALUE=URI;X-ADDRESS=3 Alderson St\, Newmarket\,
  QLD\, 4051\, Australia;X-APPLE-RADIUS=100;X-TITLE=Pranic Healing & Medita
 tion Centre:geo:-27.430651,153.010182
END:VEVENT
BEGIN:VTIMEZONE
TZID:Australia/Brisbane
X-LIC-LOCATION:Australia/Brisbane
BEGIN:STANDARD
DTSTART:20240712T090000
TZOFFSETFROM:+1000
TZOFFSETTO:+1000
TZNAME:AEST
END:STANDARD
END:VTIMEZONE
END:VCALENDAR