BEGIN:VCALENDAR
VERSION:2.0
PRODID:-//wp-events-plugin.com//7.2.3.1//EN
TZID:Australia/Brisbane
X-WR-TIMEZONE:Australia/Brisbane
BEGIN:VEVENT
UID:1176@pranichealingcentre.com.au
DTSTART;TZID=Australia/Brisbane:20250607T090000
DTEND;TZID=Australia/Brisbane:20250608T180000
DTSTAMP:20250310T013453Z
URL:https://pranichealingcentre.com.au/courses/mcks-pranic-face-lift-body-
 sculpting-june-7th-8th/
SUMMARY:MCKS Pranic Face-Lift & Body Sculpting© June 7th - 8th
DESCRIPTION:MCKS Pranic Face-Lift &amp\; Body Sculpting© Course.\nPre-requ
 isite: Pranic Crystal Healing\n\nThe Pranic Face-lift and Body Sculpting c
 ourse introduce the application of Pranic Healing to health and beauty. Us
 ing a specific combination of colour pranas and techniques\, your skin can
  look 10 to 20 years younger and your body thinner and healthier.\nThis wo
 rkshop helps you look better and lose weight without surgery and exhaustin
 g exercises\, just by using the knowledge of subtle energy!\nCertain colou
 r pranas have the power to disintegrate and remove fat\, lines and wrinkle
 s. In fact\, the lines and wrinkles of the face are the storage of negativ
 e and unpleasant feelings and experiences such as anger\, fear and grief. 
 When this emotional garbage is cleared and released\, the face will look y
 ounger\, brighter and revitalized.\n\nAfter the workshop you will be able 
 to:\n\n 	Remove fine lines and wrinkles\n 	Create a younger\, glowing comp
 lexion\n 	Look thinner\, healthier and sexier\n 	Lose the excess weight\, 
 tighten and firm skin tone\n 	Regulate your appetite and remove the excess
 ive cravings for food and sugar\n 	Remove the negative emotions that contr
 ibute to the weight gain\n 	Increase your will power to resist overeating\
 n\nThe Pranic Face-lift and Body Sculpting course is highly recommended fo
 r all healers\, especially for those who specialized in health and beauty.
  It is a must-learn workshop for doctors and specialists dealing with the 
 skin\, nutrition and weight loss\, as it introduces effective techniques t
 hat can best compliment your healing practice.\n\nPrerequisite: Pranic Psy
 chotherapy and Pranic Crystal Healing\n\nMarilette Liongson\, Senior Instr
 uctor from the Institute for Inner Studies.
CATEGORIES:Courses,MCKS Pranic Facial Rejuvenation and Body Sculpting
LOCATION:Pranic Healing Centre\, Pranic Healing Centre\, 3 Alderson St\, Ne
 wmarket\, QLD\, 4051\, Australia
GEO:-27.430668;153.010178
X-APPLE-STRUCTURED-LOCATION;VALUE=URI;X-ADDRESS=Pranic Healing Centre\, 3 A
 lderson St\, Newmarket\, QLD\, 4051\, Australia;X-APPLE-RADIUS=100;X-TITLE
 =Pranic Healing Centre:geo:-27.430668,153.010178
END:VEVENT
BEGIN:VTIMEZONE
TZID:Australia/Brisbane
X-LIC-LOCATION:Australia/Brisbane
BEGIN:STANDARD
DTSTART:20240607T090000
TZOFFSETFROM:+1000
TZOFFSETTO:+1000
TZNAME:AEST
END:STANDARD
END:VTIMEZONE
END:VCALENDAR