BEGIN:VCALENDAR
VERSION:2.0
PRODID:-//wp-events-plugin.com//7.2.3.1//EN
TZID:Australia/Brisbane
X-WR-TIMEZONE:Australia/Brisbane
BEGIN:VEVENT
UID:1195@pranichealingcentre.com.au
DTSTART;TZID=Australia/Brisbane:20250913T090000
DTEND;TZID=Australia/Brisbane:20250914T180000
DTSTAMP:20250816T061733Z
URL:https://pranichealingcentre.com.au/courses/mcks-kriyashakti-september-
 13th-14th/
SUMMARY:MCKS Kriyashakti© - September 13th - 14th
DESCRIPTION:MCKS Kriyashakti – The Science and Art of Prosperity and Succ
 ess\nAwaken your inner power to consciously create your life!\nIn this 2-d
 ay course\, you’ll learn to harness the power of your thoughts\, emotion
 s\, subtle energies\, and your auric field to create a life of abundance\,
  both materially and spiritually.\n\nYou will learn to:\n\n 	Actively crea
 te thoughts and emotions that attract prosperity and success\n 	Avoid nega
 tive thought patterns that manifest as hardship\n 	Use energy and willpowe
 r to dissolve limiting beliefs and obstacles\n 	Apply sacred mudras and fo
 cused intention to accelerate manifestation\n 	Grow spiritually while shap
 ing the life you truly desire\n\nThis course is a transformative step for 
 anyone ready to align mind\, heart\, and soul with their highest potential
 .\n\n Prerequisite: Basic\, Advanced\, and Achieving Oneness with the Hig
 her Soul and/or Arhatic Yoga Preparatory
CATEGORIES:Courses,Kriyashakti
LOCATION:Pranic Healing Centre\, Pranic Healing Centre\, 3 Alderson St\, Ne
 wmarket\, QLD\, 4051\, Australia
GEO:-27.430668;153.010178
X-APPLE-STRUCTURED-LOCATION;VALUE=URI;X-ADDRESS=Pranic Healing Centre\, 3 A
 lderson St\, Newmarket\, QLD\, 4051\, Australia;X-APPLE-RADIUS=100;X-TITLE
 =Pranic Healing Centre:geo:-27.430668,153.010178
END:VEVENT
BEGIN:VTIMEZONE
TZID:Australia/Brisbane
X-LIC-LOCATION:Australia/Brisbane
BEGIN:STANDARD
DTSTART:20240913T090000
TZOFFSETFROM:+1000
TZOFFSETTO:+1000
TZNAME:AEST
END:STANDARD
END:VTIMEZONE
END:VCALENDAR