BEGIN:VCALENDAR
VERSION:2.0
PRODID:-//wp-events-plugin.com//7.2.3.1//EN
TZID:Australia/Brisbane
X-WR-TIMEZONE:Australia/Brisbane
BEGIN:VEVENT
UID:1203@pranichealingcentre.com.au
DTSTART;TZID=Australia/Brisbane:20260808T090000
DTEND;TZID=Australia/Brisbane:20260808T173000
DTSTAMP:20260313T071341Z
URL:https://pranichealingcentre.com.au/courses/mcks-crystal-pranic-healing
 -saturday-aug/
SUMMARY:MCKS Crystal Pranic Healing© Saturday 8th August
DESCRIPTION:In Crystal Pranic Healing\, you will learn the power of crystal
 s to enhance your healing ability\, spirituality and prosperity.\n\nLearn 
 simple\, practical processes and techniques to power-up your healing. Heal
  more complex cases and in half the time!\n\nFor new students – learn s
 imple\, practical processes and techniques to power-up your healing. Heal 
 more complex cases and in half the time!\nFor resit students – review\,
  refresh and reprogram and power-up your crystals!\n\nThe techniques taugh
 t in this course build on the Basic and Advanced Pranic Healing skills\, a
 nd teaches you:\n\n 	the 3 essential properties of crystals\n 	the 4 basic
  techniques for processings and utilising a crystal for healing\n 	how to 
 instantly increase your healing power\n 	how to charge and consecrate crys
 tals\n 	when not to use crystals.\n\nAll Pranic Healing books\, meditation
  audios\, and other course materials are available for purchase at the wor
 kshop.\nCourse material required for this course is: Crystal Pranic Healin
 g $65\n\nThe pre-requisite for this course is MCKS Advanced Pranic Healing
                                                  
              \n\nMore information 
CATEGORIES:Crystal Pranic Healing
LOCATION:Pranic Healing & Meditation Centre\, 3 Alderson St\, Newmarket\, Q
 LD\, 4051\, Australia
GEO:-27.430651;153.010182
X-APPLE-STRUCTURED-LOCATION;VALUE=URI;X-ADDRESS=3 Alderson St\, Newmarket\,
  QLD\, 4051\, Australia;X-APPLE-RADIUS=100;X-TITLE=Pranic Healing & Medita
 tion Centre:geo:-27.430651,153.010182
END:VEVENT
BEGIN:VTIMEZONE
TZID:Australia/Brisbane
X-LIC-LOCATION:Australia/Brisbane
BEGIN:STANDARD
DTSTART:20250808T090000
TZOFFSETFROM:+1000
TZOFFSETTO:+1000
TZNAME:AEST
END:STANDARD
END:VTIMEZONE
END:VCALENDAR