BEGIN:VCALENDAR
VERSION:2.0
PRODID:-//wp-events-plugin.com//7.2.3.1//EN
TZID:Australia/Brisbane
X-WR-TIMEZONE:Australia/Brisbane
BEGIN:VEVENT
UID:1207@pranichealingcentre.com.au
DTSTART;TZID=Australia/Brisbane:20260509T090000
DTEND;TZID=Australia/Brisbane:20260510T170000
DTSTAMP:20260413T012558Z
URL:https://pranichealingcentre.com.au/courses/mcks-basic-pranic-healing-m
 ay-3/
SUMMARY:MCKS Basic Pranic Healing© 9th - 10th May
DESCRIPTION:\nUnlock the Power of Energy Healing with this Pranic Healing C
 ourse!\nDiscover how spiritual energy can be harnessed to enrich every asp
 ect of your life.\n\nThis course is open to all. It is the starting point 
 of all the Pranic Healing courses and is for both personal and professiona
 l transformation.\n\n“Life Energy or Prana is all around us. It is perva
 sive\; we are actually living in an ocean of Life Energy. Based on this pr
 inciple\, a healer can draw in Pranic Energy or Life Energy from the surro
 undings.” Master Choa Kok Sui.\nThis course is for both Personal and Pro
 fessional Development:\n\n 	Discover how energy affects you physically\, e
 motionally\, mentally and spiritually\n 	Learn how to purge yourself from 
 negative thoughts and energies that prevent you from becoming prosperous a
 nd successful\n 	Learn simple but powerful techniques to keep emotionally 
 calm and mentally clear in stressful situations/environments\n 	Learn to h
 eal yourself and others\n 	Enhance your knowledge of the Chakras and energ
 y anatomy\n\nAll Pranic Healing books\, meditation audios\, and other cour
 se materials are available for purchase at the workshop.\nCourse material 
 required for this course is: Miracles Through Pranic Healing $65\n\nMore i
 nformation\n\n&nbsp\;\n\nFeedback from recent students:\n\n‘Thank you Fa
 ra – it was a fabulous weekend. Thank you very much for this gift to us
 ’.\n\n‘I love Pranic Healing because it works! … it is simple to lea
 rn and easy to apply’.\nThe Pranic Healing Foundation Courses:\n\n 	Basi
 c Pranic Healing\n 	Advanced Pranic Healing\n 	Pranic Psychotherapy or Cry
 stal Pranic Healing.\n\n&nbsp\;
CATEGORIES:Basic Pranic Healing
LOCATION:Pranic Healing & Meditation Centre\, 3 Alderson St\, Newmarket\, Q
 LD\, 4051\, Australia
GEO:-27.430651;153.010182
X-APPLE-STRUCTURED-LOCATION;VALUE=URI;X-ADDRESS=3 Alderson St\, Newmarket\,
  QLD\, 4051\, Australia;X-APPLE-RADIUS=100;X-TITLE=Pranic Healing & Medita
 tion Centre:geo:-27.430651,153.010182
END:VEVENT
BEGIN:VTIMEZONE
TZID:Australia/Brisbane
X-LIC-LOCATION:Australia/Brisbane
BEGIN:STANDARD
DTSTART:20250509T090000
TZOFFSETFROM:+1000
TZOFFSETTO:+1000
TZNAME:AEST
END:STANDARD
END:VTIMEZONE
END:VCALENDAR