BEGIN:VCALENDAR
VERSION:2.0
PRODID:-//wp-events-plugin.com//7.2.3.1//EN
TZID:Australia/Brisbane
X-WR-TIMEZONE:Australia/Brisbane
BEGIN:VEVENT
UID:1172@pranichealingcentre.com.au
DTSTART;TZID=Australia/Brisbane:20250524T090000
DTEND;TZID=Australia/Brisbane:20250525T170000
DTSTAMP:20250519T045938Z
URL:https://pranichealingcentre.com.au/courses/mcks-basic-pranic-healing-m
 ay-2/
SUMMARY:MCKS Basic Pranic Healing© May 24th - 25th
DESCRIPTION:[vc_row][vc_column][vc_column_text css="" color="#000000"]\n\nU
 nlock the Power of Energy Healing with MCKS Basic Pranic Healing Course!\n
 Discover how spiritual energy can be harnessed to enrich every aspect of y
 our life with Pranic Healing.\n\nThis course is open to all. It is the sta
 rting point of all the Pranic Healing courses and is for both personal and
  professional transformation.\n\n“Life Energy or Prana is all around us.
  It is pervasive\; we are actually living in an ocean of Life Energy. Base
 d on this principle\, a healer can draw in Pranic Energy or Life Energy fr
 om the surroundings.” Master Choa Kok Sui[/vc_column_text][vc_column_tex
 t]\nThis course is for both Personal and Professional Development:\n\n 	Di
 scover how energy affects you physically\, emotionally\, mentally and spir
 itually\n 	Learn how to purge yourself from negative thoughts and energies
  that prevent you from becoming prosperous and successful\n 	Learn simple 
 but powerful techniques to keep emotionally calm and mentally clear in str
 essful situations/environments\n 	Learn to heal yourself and others\n 	Enh
 ance your knowledge of the Chakras and energy anatomy\n\nMore information\
 n\n&nbsp\;\n\nFeedback from recent students:\n\n‘Thank you Fara – it w
 as a fabulous weekend. Thank you very much for this gift to us’.\n\n‘I
  love Pranic Healing because it works! … it is simple to learn and easy 
 to apply’.[/vc_column_text][/vc_column][/vc_row][vc_row][vc_column][vc_c
 olumn_text]\nThe Pranic Healing Foundation Courses:\n\n 	Basic Pranic Heal
 ing\n 	Advanced Pranic Healing\n 	Pranic Psychotherapy or Crystal Pranic H
 ealing.\n\n[/vc_column_text][/vc_column][/vc_row]
CATEGORIES:Basic Pranic Healing
LOCATION:Pranic Healing & Meditation Centre\, 3 Alderson St\, Newmarket\, Q
 LD\, 4051\, Australia
GEO:-27.430651;153.010182
X-APPLE-STRUCTURED-LOCATION;VALUE=URI;X-ADDRESS=3 Alderson St\, Newmarket\,
  QLD\, 4051\, Australia;X-APPLE-RADIUS=100;X-TITLE=Pranic Healing & Medita
 tion Centre:geo:-27.430651,153.010182
END:VEVENT
BEGIN:VTIMEZONE
TZID:Australia/Brisbane
X-LIC-LOCATION:Australia/Brisbane
BEGIN:STANDARD
DTSTART:20240524T090000
TZOFFSETFROM:+1000
TZOFFSETTO:+1000
TZNAME:AEST
END:STANDARD
END:VTIMEZONE
END:VCALENDAR