BEGIN:VCALENDAR
VERSION:2.0
PRODID:-//wp-events-plugin.com//7.2.3.1//EN
TZID:Australia/Brisbane
X-WR-TIMEZONE:Australia/Brisbane
BEGIN:VEVENT
UID:1200@pranichealingcentre.com.au
DTSTART;TZID=Australia/Brisbane:20260207T090000
DTEND;TZID=Australia/Brisbane:20260208T170000
DTSTAMP:20251124T011532Z
URL:https://pranichealingcentre.com.au/courses/mcks-basic-pranic-healing-f
 eb-3/
SUMMARY:MCKS Basic Pranic Healing© 7th - 8th February
DESCRIPTION:[vc_row][vc_column][vc_column_text css="" color="#000000"]\n\nU
 nlock the Power of Energy Healing with this Pranic Healing Course!\nDiscov
 er how spiritual energy can be harnessed to enrich every aspect of your li
 fe with Pranic Healing.\n\nThis course is open to all. It is the starting 
 point of all the Pranic Healing courses and is for both personal and profe
 ssional transformation.\n\n“Life Energy or Prana is all around us. It is
  pervasive\; we are actually living in an ocean of Life Energy. Based on t
 his principle\, a healer can draw in Pranic Energy or Life Energy from the
  surroundings.” Master Choa Kok Sui[/vc_column_text][vc_column_text]\nTh
 is course is for both Personal and Professional Development:\n\n 	Discover
  how energy affects you physically\, emotionally\, mentally and spirituall
 y\n 	Learn how to purge yourself from negative thoughts and energies that 
 prevent you from becoming prosperous and successful\n 	Learn simple but po
 werful techniques to keep emotionally calm and mentally clear in stressful
  situations/environments\n 	Learn to heal yourself and others\n 	Enhance y
 our knowledge of the Chakras and energy anatomy\n\nMore information\n\n&nb
 sp\;\n\nFeedback from recent students:\n\n‘Thank you Fara – it was a f
 abulous weekend. Thank you very much for this gift to us’.\n\n‘I love 
 Pranic Healing because it works! … it is simple to learn and easy to app
 ly’.[/vc_column_text][/vc_column][/vc_row][vc_row][vc_column][vc_column_
 text]\nThe Pranic Healing Foundation Courses:\n\n 	Basic Pranic Healing\n 
 	Advanced Pranic Healing\n 	Pranic Psychotherapy or Crystal Pranic Healing
 .\n\n[/vc_column_text][/vc_column][/vc_row]
CATEGORIES:Basic Pranic Healing
LOCATION:Pranic Healing & Meditation Centre\, 3 Alderson St\, Newmarket\, Q
 LD\, 4051\, Australia
GEO:-27.430651;153.010182
X-APPLE-STRUCTURED-LOCATION;VALUE=URI;X-ADDRESS=3 Alderson St\, Newmarket\,
  QLD\, 4051\, Australia;X-APPLE-RADIUS=100;X-TITLE=Pranic Healing & Medita
 tion Centre:geo:-27.430651,153.010182
END:VEVENT
BEGIN:VTIMEZONE
TZID:Australia/Brisbane
X-LIC-LOCATION:Australia/Brisbane
BEGIN:STANDARD
DTSTART:20250207T090000
TZOFFSETFROM:+1000
TZOFFSETTO:+1000
TZNAME:AEST
END:STANDARD
END:VTIMEZONE
END:VCALENDAR