BEGIN:VCALENDAR
VERSION:2.0
PRODID:-//wp-events-plugin.com//7.2.3.1//EN
TZID:Australia/Brisbane
X-WR-TIMEZONE:Australia/Brisbane
BEGIN:VEVENT
UID:1191@pranichealingcentre.com.au
DTSTART;TZID=Australia/Brisbane:20250818T083000
DTEND;TZID=Australia/Brisbane:20250818T123000
DTSTAMP:20250721T014007Z
URL:https://pranichealingcentre.com.au/courses/mcks-arhatic-yoga-level-1-m
 onday/
SUMMARY:MCKS Arhatic Yoga© Level 1 - Monday 18th August
DESCRIPTION:Arhatic Yoga Level 1 involves the rapid activation of the chakr
 as and opening of the major meridians to allow more Kundalini Energy and S
 piritual Energy to flow through your system.\n\nTypically you will experie
 nce an increase in the size of the chakras by 100% to 300%. You will also 
 notice your healing abilities increase tremendously\, and you will have le
 ss chance of being depleted when healing or dealing with negative situatio
 ns.\n\nIn addition\, the inherent powers in each of the chakras will be in
 creased:\n\n 	Crown - intuition\, spiritual connection\n 	Ajna - will powe
 r\, abstract thinking faculties\n 	Throat - creativity and detailed thinki
 ng\n 	Heart - compassion and sensitivity to subtle energies\n 	Solar Plexu
 s - courage and perseverance\n 	Naval - Instincts and storehouse of energy
 \n 	Sex - creativity and charisma\n 	Basic - dynamic activity and physical
  power.\n\nPre-requisite: MCKS Arhatic Yoga Prep Level + 2 yrs of practice
 .\n\nIt is a course requirement to re-sit the AY Prep Level immediately pr
 ior to attending this Level change.\nThe re-sit fee is included in the Lev
 el 1 registration. (That is\, no additional payment is required to re-sit)
 \n\nFor this course there is an  application form to complete for new stu
 dents. Please return this completed application to fara@pranichealingcentr
 e.com.au at least 4 weeks prior to the event for assessment.\nYou will be 
 notified if your application is successful. You can then proceed with paym
 ent.\n\nFor re-sitting students no application form is required. If you co
 mpleted your Arhatic Yoga prep-level and Level 1 at another centre\, pleas
 e provide a copy of your certificate.[/vc_column_text][/vc_column][/vc_row
 ]
CATEGORIES:Arhatic Yoga,Courses
LOCATION:Pranic Healing & Meditation Centre\, 3 Alderson St\, Newmarket\, Q
 LD\, 4051\, Australia
GEO:-27.430651;153.010182
X-APPLE-STRUCTURED-LOCATION;VALUE=URI;X-ADDRESS=3 Alderson St\, Newmarket\,
  QLD\, 4051\, Australia;X-APPLE-RADIUS=100;X-TITLE=Pranic Healing & Medita
 tion Centre:geo:-27.430651,153.010182
END:VEVENT
BEGIN:VTIMEZONE
TZID:Australia/Brisbane
X-LIC-LOCATION:Australia/Brisbane
BEGIN:STANDARD
DTSTART:20240818T083000
TZOFFSETFROM:+1000
TZOFFSETTO:+1000
TZNAME:AEST
END:STANDARD
END:VTIMEZONE
END:VCALENDAR