BEGIN:VCALENDAR
VERSION:2.0
PRODID:-//wp-events-plugin.com//7.2.3.1//EN
TZID:Australia/Brisbane
X-WR-TIMEZONE:Australia/Brisbane
BEGIN:VEVENT
UID:1208@pranichealingcentre.com.au
DTSTART;TZID=Australia/Brisbane:20260530T090000
DTEND;TZID=Australia/Brisbane:20260531T170000
DTSTAMP:20260228T071323Z
URL:https://pranichealingcentre.com.au/courses/mcks-advanced-pranic-healin
 g-may-2/
SUMMARY:MCKS Advanced Pranic Healing© 30th - 31st May
DESCRIPTION:In Advanced Pranic Healing you will learn how to utilize colour
  prana for quicker\, more effective healing results. \n\nColour prana crea
 tes a more focused effect on the energy field and the chakras and you will
  become energized and more fully alive.\n\nThese advanced techniques using
  colour prana or vibrations enable you to:\n\n 	enhance the immune system\
 n 	cleanse the blood and internal organs\n 	create rapid regeneration and 
 healing of wounds\n 	boost vitality and strength\, in yourself and others.
 \n\nAll Pranic Healing books\, meditation audios\, and other course materi
 als are available for purchase at the workshop.\nCourse material required 
 for this course is: Advanced Pranic Healing $65\n\nThe pre-requisite for t
 his course is MCKS Basic Pranic Healing\n\nMore information
CATEGORIES:Advanced Pranic Healing
LOCATION:Pranic Healing & Meditation Centre\, 3 Alderson St\, Newmarket\, Q
 LD\, 4051\, Australia
GEO:-27.430651;153.010182
X-APPLE-STRUCTURED-LOCATION;VALUE=URI;X-ADDRESS=3 Alderson St\, Newmarket\,
  QLD\, 4051\, Australia;X-APPLE-RADIUS=100;X-TITLE=Pranic Healing & Medita
 tion Centre:geo:-27.430651,153.010182
END:VEVENT
BEGIN:VTIMEZONE
TZID:Australia/Brisbane
X-LIC-LOCATION:Australia/Brisbane
BEGIN:STANDARD
DTSTART:20250530T090000
TZOFFSETFROM:+1000
TZOFFSETTO:+1000
TZNAME:AEST
END:STANDARD
END:VTIMEZONE
END:VCALENDAR