BEGIN:VCALENDAR
VERSION:2.0
PRODID:-//wp-events-plugin.com//7.2.3.1//EN
TZID:Australia/Brisbane
X-WR-TIMEZONE:Australia/Brisbane
BEGIN:VEVENT
UID:1201@pranichealingcentre.com.au
DTSTART;TZID=Australia/Brisbane:20260221T090000
DTEND;TZID=Australia/Brisbane:20260222T170000
DTSTAMP:20251124T011724Z
URL:https://pranichealingcentre.com.au/courses/mcks-advanced-pranic-healin
 g-feb/
SUMMARY:MCKS Advanced Pranic Healing© 21st - 22nd February
DESCRIPTION:[vc_row][/vc_row][vc_column][/vc_column][vc_column_text]In Adva
 nced Pranic Healing you will learn how to utilize colour prana for quicker
 \, more effective healing results. \n\nColour prana creates a more focused
  effect on the energy field and the chakras and you will become energized 
 and more fully alive.\n\nThese advanced techniques using colour prana or v
 ibrations enable you to:\n\n 	enhance the immune system\n 	cleanse the blo
 od and internal organs\n 	create rapid regeneration and healing of wounds\
 n 	boost vitality and strength\, in yourself and others.\n\nThe pre-requis
 ite for this course is MCKS Basic Pranic Healing\n\nMore information[/vc_c
 olumn_text][vc_column_text][/vc_column_text]
CATEGORIES:Advanced Pranic Healing
LOCATION:Pranic Healing & Meditation Centre\, 3 Alderson St\, Newmarket\, Q
 LD\, 4051\, Australia
GEO:-27.430651;153.010182
X-APPLE-STRUCTURED-LOCATION;VALUE=URI;X-ADDRESS=3 Alderson St\, Newmarket\,
  QLD\, 4051\, Australia;X-APPLE-RADIUS=100;X-TITLE=Pranic Healing & Medita
 tion Centre:geo:-27.430651,153.010182
END:VEVENT
BEGIN:VTIMEZONE
TZID:Australia/Brisbane
X-LIC-LOCATION:Australia/Brisbane
BEGIN:STANDARD
DTSTART:20250221T090000
TZOFFSETFROM:+1000
TZOFFSETTO:+1000
TZNAME:AEST
END:STANDARD
END:VTIMEZONE
END:VCALENDAR