BEGIN:VCALENDAR
VERSION:2.0
PRODID:-//wp-events-plugin.com//7.2.3.1//EN
TZID:Australia/Brisbane
X-WR-TIMEZONE:Australia/Brisbane
BEGIN:VEVENT
UID:1196@pranichealingcentre.com.au
DTSTART;TZID=Australia/Brisbane:20251130T090000
DTEND;TZID=Australia/Brisbane:20251130T170000
DTSTAMP:20251024T034504Z
URL:https://pranichealingcentre.com.au/courses/invisible-helpers/
SUMMARY:The Invisible Helpers Sunday 30th November
DESCRIPTION:[vc_row][vc_column][vc_column_text css=""]\nThe Invisible Helpe
 rs\nThe Science and Art of Harmony with the Angelic and Deva Kingdoms\n\n
 “The ideal of this brotherhood is to draw angels and men\, two branches 
 of the infinite family of God\, into close cooperation.\nThe chief purpose
  of such cooperation is to uplift the human race.”\n— Geoffrey Hodson\
 , The Brotherhood of Angels and of Men (1927)[/vc_column_text][vc_column_t
 ext css=""]Course Overview\n\nThis full-day program explores the Deva King
 dom\, the other great branch of evolution alongside humanity\, and present
 s methods for understanding and engaging with these subtle intelligences.\
 nYou will learn how cooperation between human and deva consciousness can i
 nspire creativity\, healing\, harmony\, and service to Mother Earth in dai
 ly life.\n\nWhat You’ll Learn\n\n 	Cosmogony: the study of creation and 
 the evolutionary streams of life\n 	Structure of the Deva Kingdom: hierarc
 hy\, functions\, and stages of development\n 	Practical Cooperation: safe 
 and mindful techniques for invoking assistance and collaboration from Ange
 ls\, Invisible Helpers\, and Devas\n\nWho Should Attend\n\nThis course is 
 designed for seekers\, researchers\, healers\, and practitioners drawn to 
 esoteric teachings\, spirituality\, and consciousness. It welcomes partici
 pants with an open and reflective mind\, with a genuine aspiration for abs
 tract thought and a deeper understanding of life.\n\n&nbsp\;\n\nCourse Det
 ails\n\nFacilitator: Hossein Ahmadzadeh.\nHossein began his journey in Pra
 nic Healing and Arhatic Yoga in 2012 as a student of Master Choa Kok Sui (
 MCKS).\nOver the years\, he has immersed himself in the study of esoteric 
 teachings and Theosophy\, continually expanding his understanding and prac
 tice.\nHossein has been facilitating an online Arhatic Yoga study group ba
 sed in Brisbane since 2021 and actively explores esoteric concepts\, with 
 a special interest in Invisible Helpers.\n\nPlease note: This is not a MCK
 S Pranic Healing Course.[/vc_column_text][/vc_column][/vc_row]
CATEGORIES:Divine Healing
LOCATION:Pranic Healing & Meditation Centre\, 3 Alderson St\, Newmarket\, Q
 LD\, 4051\, Australia
GEO:-27.430651;153.010182
X-APPLE-STRUCTURED-LOCATION;VALUE=URI;X-ADDRESS=3 Alderson St\, Newmarket\,
  QLD\, 4051\, Australia;X-APPLE-RADIUS=100;X-TITLE=Pranic Healing & Medita
 tion Centre:geo:-27.430651,153.010182
END:VEVENT
BEGIN:VTIMEZONE
TZID:Australia/Brisbane
X-LIC-LOCATION:Australia/Brisbane
BEGIN:STANDARD
DTSTART:20241130T090000
TZOFFSETFROM:+1000
TZOFFSETTO:+1000
TZNAME:AEST
END:STANDARD
END:VTIMEZONE
END:VCALENDAR