BEGIN:VCALENDAR
VERSION:2.0
PRODID:-//wp-events-plugin.com//7.2.3.1//EN
TZID:Australia/Brisbane
X-WR-TIMEZONE:Australia/Brisbane
BEGIN:VEVENT
UID:1206@pranichealingcentre.com.au
DTSTART;TZID=Australia/Brisbane:20260201T100000
DTEND;TZID=Australia/Brisbane:20260201T143000
DTSTAMP:20260131T213026Z
URL:https://pranichealingcentre.com.au/courses/full-moon-meditation-sunday
 -feb/
SUMMARY:Full Moon Celebration- Sunday 1st February
DESCRIPTION:[vc_row][vc_column][vc_column_text css=""]\n🌕 Full Moon Cele
 bration\nHealing • Clarity • Energised Goals\nJoin us for a powerful F
 ull Moon gathering offering healing\, reflection\, and spiritual alignment
 . The Full Moon creates very favourable conditions for growth\, and these 
 energies are amplified when we come together in group meditation.\n✨ ALL
  ARE WELCOME🌙 Join one or both sessions🙏 By donation | Registration 
 appreciated\n\n\n\n\n🌿 Free Pranic Healing Clinic\n10.00 – 12.00Recei
 ve Pranic Healing\, ask questions\, or (for healers) join a healing team a
 nd practice.📍 Meditation Garden\, 3 Alderson Street\, Newmarket\n\n\n\n
 🎯 Goal Setting &amp\; Full Moon Meditation\n12.30 – 2.30Refine and en
 ergise your 2026 goals and projects\, followed by Master Choa Kok Sui’s 
 Twin Hearts Full Moon Meditation for Peace &amp\; Illumination.\nIncludes:
 \n\n\n 	Conscious goal setting\n 	Energising goals using Pranic Healing\n 
 	Meditation for clarity and spiritual alignment\n\nPlease bring a pen\, pa
 per\, and any written goals or projects.\n\n\n\nA beautiful opportunity to
  gather with like-minded seekers\, receive healing\, and align your goals 
 with higher purpose — in a light-hearted and supportive space.\nWith ble
 ssings\,Fara Curlewis\n[/vc_column_text][/vc_column][/vc_row][vc_row][vc_c
 olumn][vc_column_text]We also offer an ONLINE meditation each Monday eveni
 ng 8pm - 8.45pm via Zoom. Everyone is welcome for details and link[/vc_col
 umn_text][/vc_column][/vc_row][vc_row][vc_column][/vc_column][/vc_row]
CATEGORIES:Pranic Healing Sundays,Twin Hearts Full Moon meditation
LOCATION:Pranic Healing & Meditation Centre\, 3 Alderson St\, Newmarket\, Q
 LD\, 4051\, Australia
GEO:-27.430651;153.010182
X-APPLE-STRUCTURED-LOCATION;VALUE=URI;X-ADDRESS=3 Alderson St\, Newmarket\,
  QLD\, 4051\, Australia;X-APPLE-RADIUS=100;X-TITLE=Pranic Healing & Medita
 tion Centre:geo:-27.430651,153.010182
END:VEVENT
BEGIN:VTIMEZONE
TZID:Australia/Brisbane
X-LIC-LOCATION:Australia/Brisbane
BEGIN:STANDARD
DTSTART:20250201T100000
TZOFFSETFROM:+1000
TZOFFSETTO:+1000
TZNAME:AEST
END:STANDARD
END:VTIMEZONE
END:VCALENDAR