BEGIN:VCALENDAR
VERSION:2.0
PRODID:-//wp-events-plugin.com//7.2.3.1//EN
TZID:Australia/Brisbane
X-WR-TIMEZONE:Australia/Brisbane
BEGIN:VEVENT
UID:918@pranichealingcentre.com.au
DTSTART;TZID=Australia/Brisbane:20241215T103000
DTEND;TZID=Australia/Brisbane:20241215T113000
DTSTAMP:20241211T071002Z
URL:https://pranichealingcentre.com.au/courses/full-moon-meditation-on-sun
 day-dec/
SUMMARY:Full Moon Meditation on Sunday-Sunday December 15th
DESCRIPTION:[vc_row][vc_column][vc_column_text css=""]\n\nThe full moon pro
 vides 'very favourable conditions' for all spiritual aspirates. It is an o
 pportunity to harness powerful energies and grow spiritually and these ene
 rgies are further amplified when we meditate in a group.\n\nExperience thi
 s tremendous downpour of Divine energies to blessed Mother Earth\, your ho
 me\, family\, loved ones\, and goals.\n\nALL WELCOME and please register .
 .. this event is by donation.\n\nOn Sunday 15th December join our Sundays 
 @ the Pranic Healing Centre and celebrate this Full Moon!\n\nTime: 9.30am 
 - 11.30am\n\nProgram: We will begin with a short talk on one of the many s
 piritual topics taught in Pranic Healing. This is a wonderful opportunity 
 to meditation together as a group of like-minded spiritual seekers.\n\nWe 
 will be using Master Choa Kok Sui's guided Twin Hearts Meditations for pea
 ce and illumination. This event is for both experienced meditators and pe
 ople new to mediation! ALL ARE WELCOME.\n\nI hope you can join us. If you 
 have any questions you are welcome to call.\n\nBlessings Fara[/vc_column_t
 ext][/vc_column][/vc_row][vc_row][vc_column][vc_column_text]We also offer 
 an ONLINE meditation each Monday evening 8pm - 8.45pm via Zoom. Everyone i
 s welcome for details and link[/vc_column_text][/vc_column][/vc_row]
CATEGORIES:Pranic Healing Sundays,Twin Hearts Full Moon meditation
LOCATION:Pranic Healing Centre\, Pranic Healing Centre\, 3 Alderson St\, Ne
 wmarket\, QLD\, 4051\, Australia
GEO:-27.430668;153.010178
X-APPLE-STRUCTURED-LOCATION;VALUE=URI;X-ADDRESS=Pranic Healing Centre\, 3 A
 lderson St\, Newmarket\, QLD\, 4051\, Australia;X-APPLE-RADIUS=100;X-TITLE
 =Pranic Healing Centre:geo:-27.430668,153.010178
END:VEVENT
BEGIN:VTIMEZONE
TZID:Australia/Brisbane
X-LIC-LOCATION:Australia/Brisbane
BEGIN:STANDARD
DTSTART:20231216T103000
TZOFFSETFROM:+1000
TZOFFSETTO:+1000
TZNAME:AEST
END:STANDARD
END:VTIMEZONE
END:VCALENDAR