BEGIN:VCALENDAR
VERSION:2.0
PRODID:-//wp-events-plugin.com//7.2.3.1//EN
TZID:Australia/Brisbane
X-WR-TIMEZONE:Australia/Brisbane
BEGIN:VEVENT
UID:1197@pranichealingcentre.com.au
DTSTART;TZID=Australia/Brisbane:20260201T100000
DTEND;TZID=Australia/Brisbane:20260201T120000
DTSTAMP:20260131T212950Z
URL:https://pranichealingcentre.com.au/courses/free-pranic-healing-clinic-
 sunday-feb/
SUMMARY:Free Pranic Healing Clinic - Sunday 1st February
DESCRIPTION:our are invited to our OPEN PRANIC HEALING CLINIC on the 1st Su
 nday of the month 11am-12pm. This is an opportunity to experience Pranic H
 ealing & if you are a Pranic Healer an opportunity to join a healing team.
  All are welcome & please just turn up.
CATEGORIES:Open Pranic Healing Clinic
LOCATION:Pranic Healing & Meditation Centre\, 3 Alderson St\, Newmarket\, Q
 LD\, 4051\, Australia
GEO:-27.430651;153.010182
X-APPLE-STRUCTURED-LOCATION;VALUE=URI;X-ADDRESS=3 Alderson St\, Newmarket\,
  QLD\, 4051\, Australia;X-APPLE-RADIUS=100;X-TITLE=Pranic Healing & Medita
 tion Centre:geo:-27.430651,153.010182
END:VEVENT
BEGIN:VTIMEZONE
TZID:Australia/Brisbane
X-LIC-LOCATION:Australia/Brisbane
BEGIN:STANDARD
DTSTART:20250201T100000
TZOFFSETFROM:+1000
TZOFFSETTO:+1000
TZNAME:AEST
END:STANDARD
END:VTIMEZONE
END:VCALENDAR